BEGIN:VCALENDAR
VERSION:2.0
PRODID:-//Deutsche Gesellschaft für Geobiologie e.V. - ECPv6.15.20//NONSGML v1.0//EN
CALSCALE:GREGORIAN
METHOD:PUBLISH
X-ORIGINAL-URL:https://deutsche-rutengeher.de
X-WR-CALDESC:Veranstaltungen für Deutsche Gesellschaft für Geobiologie e.V.
REFRESH-INTERVAL;VALUE=DURATION:PT1H
X-Robots-Tag:noindex
X-PUBLISHED-TTL:PT1H
BEGIN:VTIMEZONE
TZID:UTC
BEGIN:STANDARD
TZOFFSETFROM:+0000
TZOFFSETTO:+0000
TZNAME:UTC
DTSTART:20240101T000000
END:STANDARD
END:VTIMEZONE
BEGIN:VEVENT
DTSTART;VALUE=DATE:20260228
DTEND;VALUE=DATE:20260302
DTSTAMP:20260426T014225
CREATED:20260109T191905Z
LAST-MODIFIED:20260215T184218Z
UID:2533-1772236800-1772409599@deutsche-rutengeher.de
SUMMARY:BZG. Niederbayern/Oberpfalz Seminar Modul Elektrosmog  2/26
DESCRIPTION:Die Bezirksgruppe Niederbayern/Oberpfalz lädt ein zum Seminar \nFS 2 Modul „Elektrosmog“ \n  \nTreffpunkt 9:30 Uhr\, Start  10:00 Uhr im Tagungshaus St Pirmin in Niederaltaich (Raum wird noch bekannt gegeben) \nEigene Geräte dürfen gerne zum Abgleich bzw. zur Anwendung mitgenommen werden. \nKursgebühr 200€ für Mitglieder / 250 € für Nichtmitglieder\, der Preis ist ohne Übernachtung und Verpflegung \nWer ein Zimmer benötigt bitte mit dem Gästehaus oder einem Hotel in der Nähe  in Verbindung setzen \nwww.abtei-niederalteich.de/gaeste-tagungshaus \nGäste und Tagungshaus St Pirmin \nBenediktinerabtei St. Mauritius \nMauritiushof 1 \n94557 Niederaltaich \nMail: st.pirmin(at)abtei-niederaltaich.de \n09901-208-6 Gästehaus  werktags 9-12 Uhr \nAnmeldung und nähere Infos zum Seminar unter \ninge.knon@t-online.de      Tel.   01708627931 \nWir freuen uns auf einen interessanten Kurs mit euch! \nEuer Ausbildungsteam der Fachschaft deutscher Rutengeher \n  \n\n\n\nBezirksgruppenleiter \nWilhelm Edenhofer\nIrling 2\n93102 Pfatter \nTel. 0171-4329107
URL:https://deutsche-rutengeher.de/events/bzg-niederbayern-oberpfalz-modul-elektrosmog-2-26/
LOCATION:Niederaltaich\, Mauritiushof 1\, Niederaltaich\, 94557\, Germany
CATEGORIES:Schulung
ATTACH;FMTTYPE=image/jpeg:https://deutsche-rutengeher.de/wp-content/uploads/2026/01/E-smog-046-scaled.jpg
END:VEVENT
BEGIN:VEVENT
DTSTART;TZID=UTC:20250322T093000
DTEND;TZID=UTC:20250322T170000
DTSTAMP:20260426T014225
CREATED:20240501T101134Z
LAST-MODIFIED:20250119T123941Z
UID:2052-1742635800-1742662800@deutsche-rutengeher.de
SUMMARY:Expertentag mit Bundesmitgliederversammlung 3/25
DESCRIPTION:Die Deutsche Gesellschaft für Geobiologie e. V. (DGG) mit der Fachschaft Deutscher Rutengeher lädt zum Expertentag ein. \n  \nReferent ist Rutengeher\, Baubiologe und Buchautor Rainer Höing \nThema: des Vortrags: \nWenig bekannte geobiologische Auffälligkeiten bei Krebs und  chronischen Erkrankungen. Eine Auswertung 40 jähriger Zusammenarbeit mit einer auf Krebs spezialisierten Praxisklinik. \nHerzlich eingeladen sind alle Mitglieder  sowie Gäste und Interessierte. \nAm Nachmittag findet die Bundesmitgliederversammlung mit Wahl des neuen Kassiers statt.\nBekanntgabe der Satzungsänderung in der Runde.\nVorstellung des Programmes zum 100 jährigen Vereinsbestehen.\n \n  \n  \nAnmeldung bitte bis 18.3.25  entweder online oder telefonisch bei Inge Knon. \nWer eine Übernachtung benötigt bitte den Gasthof selber kontaktieren. \nKontakt  :    Gasthof Lindenhof        Tel.  09468-205        E-Mail:  piendl@lindenhof@hetzenbach.de \n  \nMit freundlichen Grüßen \nVorsitzende Inge Knon und Willi Edenhofer \n  \n  \n\n+++ Online-Anmeldung+++ \n\n\n  \n\n\n\n FrauHerrKeine Anrede\n \n  \n \n  \n \n  \n \n  \n \n  \n \n Die Datenschutzerklärung habe ich zur Kenntnis genommen.\n \n\n ×\n\n\n\n\n 
URL:https://deutsche-rutengeher.de/events/expertentag-mit-bundesmitgliederversammlung/
LOCATION:Kellberg\, Prof. Dr. Schedel Straße 1\, Kellberg\, Bayern\, 94136\, Germany
CATEGORIES:Bundesmitgliederversammlung,Expertentag
ATTACH;FMTTYPE=image/jpeg:https://deutsche-rutengeher.de/wp-content/uploads/2023/02/Rutengeher-2-scaled.jpg
END:VEVENT
END:VCALENDAR