BEGIN:VCALENDAR
VERSION:2.0
PRODID:-//Deutsche Gesellschaft für Geobiologie e.V. - ECPv6.15.20//NONSGML v1.0//EN
CALSCALE:GREGORIAN
METHOD:PUBLISH
X-WR-CALNAME:Deutsche Gesellschaft für Geobiologie e.V.
X-ORIGINAL-URL:https://deutsche-rutengeher.de
X-WR-CALDESC:Veranstaltungen für Deutsche Gesellschaft für Geobiologie e.V.
REFRESH-INTERVAL;VALUE=DURATION:PT1H
X-Robots-Tag:noindex
X-PUBLISHED-TTL:PT1H
BEGIN:VTIMEZONE
TZID:UTC
BEGIN:STANDARD
TZOFFSETFROM:+0000
TZOFFSETTO:+0000
TZNAME:UTC
DTSTART:20250101T000000
END:STANDARD
END:VTIMEZONE
BEGIN:VEVENT
DTSTART;TZID=UTC:20260321T093000
DTEND;TZID=UTC:20260321T170000
DTSTAMP:20260425T005950
CREATED:20250331T171445Z
LAST-MODIFIED:20251230T115534Z
UID:2266-1774085400-1774112400@deutsche-rutengeher.de
SUMMARY:Expertentag mit Vortrag und Bundesmitgliederversammlung 3/26
DESCRIPTION:Die Deutsche Gesellschaft für Geobiologie e. V. (DGG) mit der Fachschaft Deutscher Rutengeher lädt zum Expertentag ein. \n10:00 bis ca.12:00 Mitgliederversammlung \n14:00 Vortrag: \nThema des Vortrages “ das Rätsel der mystischen Schalensteine im Bayerischen Wald“ \nReferent: Mythenforscher Jakob Wünsch \nHerzlich eingeladen sind alle Mitglieder  sowie Gäste und Interessierte. \nAm Vormittag findet die Bundesmitgliederversammlung  statt. \n  \nAnmeldung bitte bis 15.3.26  entweder online oder telefonisch bei Inge Knon. \nWer eine Übernachtung benötigt bitte den Gasthof selber kontaktieren. \nKontakt  :    Gasthof Lindenhof        Tel.  09468-205        E-Mail:  piendl@lindenhof@hetzenbach.de \n  \nMit freundlichen Grüßen \nVorsitzende Inge Knon und Willi Edenhofer \n  \n  \n\n+++ Online-Anmeldung+++ \n\n\n  \n\n\n\n FrauHerrKeine Anrede\n \n  \n \n  \n \n  \n \n  \n \n  \n \n Die Datenschutzerklärung habe ich zur Kenntnis genommen.\n \n\n ×\n\n\n\n\n 
URL:https://deutsche-rutengeher.de/events/expertentag-mit-bundesmitgliederversammlung-3-26/
LOCATION:Hetzenbach\, Regensburgerstraße 11\, Zell\, Bayern\, 93199
CATEGORIES:Bundesmitgliederversammlung,Expertentag
ATTACH;FMTTYPE=image/jpeg:https://deutsche-rutengeher.de/wp-content/uploads/2025/03/20210501_114014-scaled.jpg
END:VEVENT
END:VCALENDAR