BEGIN:VCALENDAR
VERSION:2.0
PRODID:-//Deutsche Gesellschaft für Geobiologie e.V. - ECPv6.15.20//NONSGML v1.0//EN
CALSCALE:GREGORIAN
METHOD:PUBLISH
X-ORIGINAL-URL:https://deutsche-rutengeher.de
X-WR-CALDESC:Veranstaltungen für Deutsche Gesellschaft für Geobiologie e.V.
REFRESH-INTERVAL;VALUE=DURATION:PT1H
X-Robots-Tag:noindex
X-PUBLISHED-TTL:PT1H
BEGIN:VTIMEZONE
TZID:UTC
BEGIN:STANDARD
TZOFFSETFROM:+0000
TZOFFSETTO:+0000
TZNAME:UTC
DTSTART:20250101T000000
END:STANDARD
END:VTIMEZONE
BEGIN:VEVENT
DTSTART;TZID=UTC:20260425T140000
DTEND;TZID=UTC:20260425T170000
DTSTAMP:20260424T233145
CREATED:20251229T145810Z
LAST-MODIFIED:20251229T145810Z
UID:2445-1777125600-1777136400@deutsche-rutengeher.de
SUMMARY:BZG. Niederbayern/Oberpfalz Exkursion St. Ägidius 4/26
DESCRIPTION:Die Bezirksgruppe Niederbayern/Oberpfalz lädt ein zur \nExkursion zur St. Ägidius Kirche “ Ehemalige Burgkapelle“ \n  \nzur Planung ist eine Anmeldung unbedingt erforderlich !!!! \nentweder per Telefon bei den Bezirksgruppenleitern oder über das folgende Online Anmeldeformular. \nGäste und Interessenten (Nicht-Mitglieder mit kleinem Unkostenbeitrag!) sind jederzeit herzlich willkommen. \n  \nWir freuen uns auf eine interessante Exkursion mit euch! \n  \nEuere Bezirksgruppenleiter \nWilli Edenhofer und Stephan Knogl \n  \n\n\n\nBezirksgruppenleiter \nWilhelm Edenhofer\nIrling 2\n93102 Pfatter \nTel. 0171-4329107 \n \nStellvertreter \nStephan Knogl\nBurgstraße 30\n94428 Eichendorf \nTel. 09952-909733\n0152-34135754 \nstephan-knogl@web.de\n\n\n\n\n\n  \n\n\n\n FrauHerrKeine Anrede\n \n  \n \n  \n \n  \n \n  \n \n  \n \n Die Datenschutzerklärung habe ich zur Kenntnis genommen.\n \n\n ×
URL:https://deutsche-rutengeher.de/events/bzg-niederbayern-oberpfalz-exkursion-st-aegidius-4-26/
LOCATION:Brennberg\, Schönfeld1\, Wald-Brennberg\, Bayern\, 93192\, Germany
CATEGORIES:Exkursion
ATTACH;FMTTYPE=image/jpeg:https://deutsche-rutengeher.de/wp-content/uploads/2025/10/Burgkapelle.jpg
END:VEVENT
END:VCALENDAR