BEGIN:VCALENDAR
VERSION:2.0
PRODID:-//Deutsche Gesellschaft für Geobiologie e.V. - ECPv6.15.20//NONSGML v1.0//EN
CALSCALE:GREGORIAN
METHOD:PUBLISH
X-WR-CALNAME:Deutsche Gesellschaft für Geobiologie e.V.
X-ORIGINAL-URL:https://deutsche-rutengeher.de
X-WR-CALDESC:Veranstaltungen für Deutsche Gesellschaft für Geobiologie e.V.
REFRESH-INTERVAL;VALUE=DURATION:PT1H
X-Robots-Tag:noindex
X-PUBLISHED-TTL:PT1H
BEGIN:VTIMEZONE
TZID:UTC
BEGIN:STANDARD
TZOFFSETFROM:+0000
TZOFFSETTO:+0000
TZNAME:UTC
DTSTART:20240101T000000
END:STANDARD
END:VTIMEZONE
BEGIN:VEVENT
DTSTART;VALUE=DATE:20260228
DTEND;VALUE=DATE:20260302
DTSTAMP:20260425T220522
CREATED:20260109T191905Z
LAST-MODIFIED:20260215T184218Z
UID:2533-1772236800-1772409599@deutsche-rutengeher.de
SUMMARY:BZG. Niederbayern/Oberpfalz Seminar Modul Elektrosmog  2/26
DESCRIPTION:Die Bezirksgruppe Niederbayern/Oberpfalz lädt ein zum Seminar \nFS 2 Modul „Elektrosmog“ \n  \nTreffpunkt 9:30 Uhr\, Start  10:00 Uhr im Tagungshaus St Pirmin in Niederaltaich (Raum wird noch bekannt gegeben) \nEigene Geräte dürfen gerne zum Abgleich bzw. zur Anwendung mitgenommen werden. \nKursgebühr 200€ für Mitglieder / 250 € für Nichtmitglieder\, der Preis ist ohne Übernachtung und Verpflegung \nWer ein Zimmer benötigt bitte mit dem Gästehaus oder einem Hotel in der Nähe  in Verbindung setzen \nwww.abtei-niederalteich.de/gaeste-tagungshaus \nGäste und Tagungshaus St Pirmin \nBenediktinerabtei St. Mauritius \nMauritiushof 1 \n94557 Niederaltaich \nMail: st.pirmin(at)abtei-niederaltaich.de \n09901-208-6 Gästehaus  werktags 9-12 Uhr \nAnmeldung und nähere Infos zum Seminar unter \ninge.knon@t-online.de      Tel.   01708627931 \nWir freuen uns auf einen interessanten Kurs mit euch! \nEuer Ausbildungsteam der Fachschaft deutscher Rutengeher \n  \n\n\n\nBezirksgruppenleiter \nWilhelm Edenhofer\nIrling 2\n93102 Pfatter \nTel. 0171-4329107
URL:https://deutsche-rutengeher.de/events/bzg-niederbayern-oberpfalz-modul-elektrosmog-2-26/
LOCATION:Niederaltaich\, Mauritiushof 1\, Niederaltaich\, 94557\, Germany
CATEGORIES:Schulung
ATTACH;FMTTYPE=image/jpeg:https://deutsche-rutengeher.de/wp-content/uploads/2026/01/E-smog-046-scaled.jpg
END:VEVENT
BEGIN:VEVENT
DTSTART;TZID=UTC:20250510T140000
DTEND;TZID=UTC:20250510T170000
DTSTAMP:20260425T220522
CREATED:20250322T182906Z
LAST-MODIFIED:20250323T121414Z
UID:2263-1746885600-1746896400@deutsche-rutengeher.de
SUMMARY:BZG. Niederbayern/Oberpfalz Exkursion (5/25)
DESCRIPTION:Die Bezirksgruppe Niederbayern/Oberpfalz lädt ein zur mystischen Wanderung nach Marienstein (Mandlstoa\, Ernstein) und zum magischen Schlupf bei der Kirche \nTreffpunkt beim Parkplatz Gasthaus Eder in 93167 Falkenstein \nZur Planung und Abwicklung unserer Exkursion ist eine Anmeldung bei den Bezirksgruppenleitern erforderlich. \nEntweder per Telefon oder über das folgende Online Anmeldeformular. \nGäste und Interessenten (Nicht-Mitglieder mit kleinem Unkostenbeitrag!) sind jederzeit herzlich willkommen. \n  \nWir freuen uns auf eine interessante Exkursion mit euch! \n  \nEuere Bezirksgruppenleiter \nWilli Edenhofer und Stephan Knogl \n  \n\n\n\nBezirksgruppenleiter \nWilhelm Edenhofer\nIrling 2\n93102 Pfatter \nTel. 0171-4329107 \nwi-edenhofer@t-online.de\nedenhoferwilhelm@gmail.com\nStellvertreter \nStephan Knogl\nBurgstraße 30\n94428 Eichendorf \nTel. 09952-909733\n0152-34135754 \nstephan-knogl@web.de\n\n\n\n  \n\n+++ Online-Anmeldung+++ \n\n\n  \n\n\n\n FrauHerrKeine Anrede\n \n  \n \n  \n \n  \n \n  \n \n  \n \n Die Datenschutzerklärung habe ich zur Kenntnis genommen.\n \n\n ×\n\n\n\n\n 
URL:https://deutsche-rutengeher.de/events/bzg-niederbayern-oberpfalz-exkursion-5-25/
LOCATION:Falkenstein\, Marienstein 3\, Falkenstein\, 93167\, Germany
CATEGORIES:Exkursion,Mystische Wanderung
ATTACH;FMTTYPE=image/jpeg:https://deutsche-rutengeher.de/wp-content/uploads/2024/01/IMG-20230105-WA0016.jpg
END:VEVENT
BEGIN:VEVENT
DTSTART;TZID=UTC:20250511T140000
DTEND;TZID=UTC:20250511T173000
DTSTAMP:20260425T220522
CREATED:20250330T191318Z
LAST-MODIFIED:20250411T163550Z
UID:2299-1746972000-1746984600@deutsche-rutengeher.de
SUMMARY:BZG. Mittelfranken Exkursion 5/25
DESCRIPTION:Die Bezirksgruppe Mittelfranken lädt ein zur Exkursion \n  \nBei diesem Treffen werden wir eine interessante Gegend durchqueren. \nStart ist in Röthenbach bei St. Wolfgang. Es geht zum idyllischen alten Kanal mit seinen Schleusen und zum Bruckkanal\, der irgendwann imposant quert. \nWeiter in die Schwarzach-Klamm\, ein Weg zu den Wurzeln. An Felsen entlang geht es zur Gustav-Adolf-Höhle\, wo eine starke männliche Energie wartet\, wild und berauschend. \nWeiterkommen wir dann zum Petzen-Wasserschloss zu zwei Kirchen\, dann zum Faberschloss in Schwarzenbruck\, einer absoluten sehenswerten Anlage. Von hier aus fahren wir dann  zurück. \nDer genaue Treffpunkt wird kurz vorher den Teilnehmern übermittelt. \nBeginn; 14 Uhr \n  \nZur Planung und Abwicklung dieser Exkursion ist eine kurze Anmeldung über Telefon oder über die Online Anmeldefunktion bei den Bezirksgruppenleiter unbedingt erforderlich! \n  \n  \nIch freue mich  auf eine interessante Exkursion mit euch! \nEuer Bezirksgruppenleiter \nDieter Käfer \n  \n\n\n\nBezirksgruppenleiter \nDieter Käfer \nAn der Leite 10 \n91338 Igensdorf \n09126 5993 \ndk.kaefer@web.de\n\n\n\n\n_____________________________________________________________________________________________________________________________________ \n+++online Anmeldung+++ \n\n\n  \n\n\n\n FrauHerrKeine Anrede\n \n  \n \n  \n \n  \n \n  \n \n  \n \n Die Datenschutzerklärung habe ich zur Kenntnis genommen.\n \n\n ×
URL:https://deutsche-rutengeher.de/events/bzg-mittelfranken-exkursion-6/
LOCATION:Röthenbach bei St Wolfgang\, Röthenbach bei St Wolfgang\, 90530\, Germany
CATEGORIES:Exkursion,Mystische Wanderung
ATTACH;FMTTYPE=image/jpeg:https://deutsche-rutengeher.de/wp-content/uploads/2025/03/TDG20140612_Schwarzach_121.jpg
END:VEVENT
END:VCALENDAR